BEGIN:VCALENDAR
VERSION:2.0
PRODID:-//Les Fufus de l Ouest - ECPv6.0.12//NONSGML v1.0//EN
CALSCALE:GREGORIAN
METHOD:PUBLISH
X-ORIGINAL-URL:https://portail.fufusdelouest.com
X-WR-CALDESC:évènements pour Les Fufus de l Ouest
REFRESH-INTERVAL;VALUE=DURATION:PT1H
X-Robots-Tag:noindex
X-PUBLISHED-TTL:PT1H
BEGIN:VTIMEZONE
TZID:Europe/Paris
BEGIN:DAYLIGHT
TZOFFSETFROM:+0100
TZOFFSETTO:+0200
TZNAME:CEST
DTSTART:20250330T010000
END:DAYLIGHT
BEGIN:STANDARD
TZOFFSETFROM:+0200
TZOFFSETTO:+0100
TZNAME:CET
DTSTART:20251026T010000
END:STANDARD
END:VTIMEZONE
BEGIN:VEVENT
DTSTART;TZID=Europe/Paris:20250524T100000
DTEND;TZID=Europe/Paris:20250524T170000
DTSTAMP:20260420T052422
CREATED:20250509T121446Z
LAST-MODIFIED:20250509T121446Z
UID:2651-1748080800-1748106000@portail.fufusdelouest.com
SUMMARY:Samedi 24 et dimanche 25 mai 2025 : portes ouvertes de la S.P.A. de Rennes (35)
DESCRIPTION:
URL:https://portail.fufusdelouest.com/event/samedi-24-et-dimanche-25-mai-2025-portes-ouvertes-de-la-s-p-a-de-rennes-35
END:VEVENT
END:VCALENDAR