BEGIN:VCALENDAR
VERSION:2.0
PRODID:-//Les Fufus de l Ouest - ECPv6.0.12//NONSGML v1.0//EN
CALSCALE:GREGORIAN
METHOD:PUBLISH
X-WR-CALNAME:Les Fufus de l Ouest
X-ORIGINAL-URL:https://portail.fufusdelouest.com
X-WR-CALDESC:évènements pour Les Fufus de l Ouest
REFRESH-INTERVAL;VALUE=DURATION:PT1H
X-Robots-Tag:noindex
X-PUBLISHED-TTL:PT1H
BEGIN:VTIMEZONE
TZID:Europe/Paris
BEGIN:DAYLIGHT
TZOFFSETFROM:+0100
TZOFFSETTO:+0200
TZNAME:CEST
DTSTART:20250330T010000
END:DAYLIGHT
BEGIN:STANDARD
TZOFFSETFROM:+0200
TZOFFSETTO:+0100
TZNAME:CET
DTSTART:20251026T010000
END:STANDARD
END:VTIMEZONE
BEGIN:VEVENT
DTSTART;VALUE=DATE:20250713
DTEND;VALUE=DATE:20250714
DTSTAMP:20260420T185535
CREATED:20250509T123936Z
LAST-MODIFIED:20250509T123936Z
UID:2664-1752364800-1752451199@portail.fufusdelouest.com
SUMMARY:Samedis 13 et 20 juillet 2025 : Fête de la Nature à Valorbiquet (14)
DESCRIPTION:Association La Dame Blanche\, Saint-Julien-de-Mailloc\, 1343 route de la chapelle  à Valorbiquet \n\n\n\nL’association de la Dame Blanche organise sa traditionnelle fête de la nature et de la photographie animalière afin de présenter les animaux\, le Centre de sauvegarde mais aussi de nombreux stands et animations. \n\nStand nature\nDiverses animations\nAteliers pour enfants\nConcours de la photo animalière\nprésence des Fufus de l’Ouest\, adoption de furets.
URL:https://portail.fufusdelouest.com/event/samedis-13-et-20-juillet-2025-fete-de-la-nature-a-valorbiquet-14
END:VEVENT
END:VCALENDAR