BEGIN:VCALENDAR
VERSION:2.0
PRODID:-//Les Fufus de l Ouest - ECPv6.0.12//NONSGML v1.0//EN
CALSCALE:GREGORIAN
METHOD:PUBLISH
X-ORIGINAL-URL:https://portail.fufusdelouest.com
X-WR-CALDESC:évènements pour Les Fufus de l Ouest
REFRESH-INTERVAL;VALUE=DURATION:PT1H
X-Robots-Tag:noindex
X-PUBLISHED-TTL:PT1H
BEGIN:VTIMEZONE
TZID:Europe/Paris
BEGIN:DAYLIGHT
TZOFFSETFROM:+0100
TZOFFSETTO:+0200
TZNAME:CEST
DTSTART:20250330T010000
END:DAYLIGHT
BEGIN:STANDARD
TZOFFSETFROM:+0200
TZOFFSETTO:+0100
TZNAME:CET
DTSTART:20251026T010000
END:STANDARD
END:VTIMEZONE
BEGIN:VEVENT
DTSTART;TZID=Europe/Paris:20250906T090000
DTEND;TZID=Europe/Paris:20250906T123000
DTSTAMP:20260421T004217
CREATED:20250509T124142Z
LAST-MODIFIED:20250509T124214Z
UID:2666-1757149200-1757161800@portail.fufusdelouest.com
SUMMARY:samedi 6 septembre 2025 : Forum des associations de Cesson-Sévigné (35)
DESCRIPTION:Ce samedi-là\, la ville de Cesson-Sévigné tient son traditionnel forum des assos. Nous y seront avec des furets et des bénévoles qui vous renseigneront sur les adoptions de furets. \nentrée libre.
URL:https://portail.fufusdelouest.com/event/samedi-6-septembre-2025-forum-des-associations-de-cesson-sevigne-35
END:VEVENT
END:VCALENDAR