BEGIN:VCALENDAR
VERSION:2.0
PRODID:-//Les Fufus de l Ouest - ECPv6.0.12//NONSGML v1.0//EN
CALSCALE:GREGORIAN
METHOD:PUBLISH
X-ORIGINAL-URL:https://portail.fufusdelouest.com
X-WR-CALDESC:évènements pour Les Fufus de l Ouest
REFRESH-INTERVAL;VALUE=DURATION:PT1H
X-Robots-Tag:noindex
X-PUBLISHED-TTL:PT1H
BEGIN:VTIMEZONE
TZID:Europe/Paris
BEGIN:DAYLIGHT
TZOFFSETFROM:+0100
TZOFFSETTO:+0200
TZNAME:CEST
DTSTART:20250330T010000
END:DAYLIGHT
BEGIN:STANDARD
TZOFFSETFROM:+0200
TZOFFSETTO:+0100
TZNAME:CET
DTSTART:20251026T010000
END:STANDARD
END:VTIMEZONE
BEGIN:VEVENT
DTSTART;TZID=Europe/Paris:20250823T080000
DTEND;TZID=Europe/Paris:20250824T170000
DTSTAMP:20260420T185703
CREATED:20250509T124622Z
LAST-MODIFIED:20250509T124622Z
UID:2674-1755936000-1756054800@portail.fufusdelouest.com
SUMMARY:23 et 24 août 2025 : fête médiévale à Blain (44)
DESCRIPTION:La compagnie des Fufus de l’Ouest sera au Château de la Groulais à Blain avec ses parcs et ses furets\, entrée libre.
URL:https://portail.fufusdelouest.com/event/23-et-24-aout-2025-fete-medievale-a-blain-44-2
END:VEVENT
END:VCALENDAR